BEGIN:VCALENDAR
VERSION:2.0
PRODID:-//Recovery Demystified - ECPv6.15.17.1//NONSGML v1.0//EN
CALSCALE:GREGORIAN
METHOD:PUBLISH
X-ORIGINAL-URL:https://www.recoverydemystified.com
X-WR-CALDESC:Events for Recovery Demystified
REFRESH-INTERVAL;VALUE=DURATION:PT1H
X-Robots-Tag:noindex
X-PUBLISHED-TTL:PT1H
BEGIN:VTIMEZONE
TZID:America/Chicago
BEGIN:DAYLIGHT
TZOFFSETFROM:-0600
TZOFFSETTO:-0500
TZNAME:CDT
DTSTART:20290311T080000
END:DAYLIGHT
BEGIN:STANDARD
TZOFFSETFROM:-0500
TZOFFSETTO:-0600
TZNAME:CST
DTSTART:20291104T070000
END:STANDARD
BEGIN:DAYLIGHT
TZOFFSETFROM:-0600
TZOFFSETTO:-0500
TZNAME:CDT
DTSTART:20300310T080000
END:DAYLIGHT
BEGIN:STANDARD
TZOFFSETFROM:-0500
TZOFFSETTO:-0600
TZNAME:CST
DTSTART:20301103T070000
END:STANDARD
BEGIN:DAYLIGHT
TZOFFSETFROM:-0600
TZOFFSETTO:-0500
TZNAME:CDT
DTSTART:20310309T080000
END:DAYLIGHT
BEGIN:STANDARD
TZOFFSETFROM:-0500
TZOFFSETTO:-0600
TZNAME:CST
DTSTART:20311102T070000
END:STANDARD
END:VTIMEZONE
BEGIN:VEVENT
DTSTART;TZID=America/Chicago:20300909T180000
DTEND;TZID=America/Chicago:20300909T190000
DTSTAMP:20260422T042950
CREATED:20251005T062303Z
LAST-MODIFIED:20260322T185654Z
UID:10000259-1915207200-1915210800@www.recoverydemystified.com
SUMMARY:Secular Addiction Recovery NWA
DESCRIPTION:Join our secular addiction recovery support group in NWA! Our non-religious meeting meets every Monday at 6 PM at the Library Vintage on Township in Fayetteville. Harm reduction approaches are welcomed. We are queer/LGBTQIA+ inclusive. Request disability accommodations info@recoverydemystified.com \nOur meetings are non-religious\, peer-led\, and for anyone questioning their use of substances. \nDonate to our nonprofit to help keep our services free: https://www.recoverydemystified.com/donations/ \nCheck out our merch store for some cool toad swag: https://www.bonfire.com/store/recovery-demystified/ \nCheck out our podcast for a new spin on secular addiction recovery: https://open.spotify.com/show/4tZpbUtGB69x7TWIcPTmGa?si=f67c20288d9c45f2 \nOur Substack has a weekly blog with lots of info about secular addiction recovery in NWA: https://substack.com/@recoverydemystified \nFollow us on Instagram for info & updates! https://instagram.com/recoverydemystified
URL:https://www.recoverydemystified.com/event/secular-addiction-recovery-nwa/2030-09-09/
LOCATION:The Library Vintage\, 48 E Township\, Fayetteville\, AR\, 72703\, United States
END:VEVENT
BEGIN:VEVENT
DTSTART;TZID=America/Chicago:20300916T180000
DTEND;TZID=America/Chicago:20300916T190000
DTSTAMP:20260422T042950
CREATED:20251005T062303Z
LAST-MODIFIED:20260322T185654Z
UID:10000260-1915812000-1915815600@www.recoverydemystified.com
SUMMARY:Secular Addiction Recovery NWA
DESCRIPTION:Join our secular addiction recovery support group in NWA! Our non-religious meeting meets every Monday at 6 PM at the Library Vintage on Township in Fayetteville. Harm reduction approaches are welcomed. We are queer/LGBTQIA+ inclusive. Request disability accommodations info@recoverydemystified.com \nOur meetings are non-religious\, peer-led\, and for anyone questioning their use of substances. \nDonate to our nonprofit to help keep our services free: https://www.recoverydemystified.com/donations/ \nCheck out our merch store for some cool toad swag: https://www.bonfire.com/store/recovery-demystified/ \nCheck out our podcast for a new spin on secular addiction recovery: https://open.spotify.com/show/4tZpbUtGB69x7TWIcPTmGa?si=f67c20288d9c45f2 \nOur Substack has a weekly blog with lots of info about secular addiction recovery in NWA: https://substack.com/@recoverydemystified \nFollow us on Instagram for info & updates! https://instagram.com/recoverydemystified
URL:https://www.recoverydemystified.com/event/secular-addiction-recovery-nwa/2030-09-16/
LOCATION:The Library Vintage\, 48 E Township\, Fayetteville\, AR\, 72703\, United States
END:VEVENT
BEGIN:VEVENT
DTSTART;TZID=America/Chicago:20300923T180000
DTEND;TZID=America/Chicago:20300923T190000
DTSTAMP:20260422T042950
CREATED:20251005T062303Z
LAST-MODIFIED:20260322T185654Z
UID:10000261-1916416800-1916420400@www.recoverydemystified.com
SUMMARY:Secular Addiction Recovery NWA
DESCRIPTION:Join our secular addiction recovery support group in NWA! Our non-religious meeting meets every Monday at 6 PM at the Library Vintage on Township in Fayetteville. Harm reduction approaches are welcomed. We are queer/LGBTQIA+ inclusive. Request disability accommodations info@recoverydemystified.com \nOur meetings are non-religious\, peer-led\, and for anyone questioning their use of substances. \nDonate to our nonprofit to help keep our services free: https://www.recoverydemystified.com/donations/ \nCheck out our merch store for some cool toad swag: https://www.bonfire.com/store/recovery-demystified/ \nCheck out our podcast for a new spin on secular addiction recovery: https://open.spotify.com/show/4tZpbUtGB69x7TWIcPTmGa?si=f67c20288d9c45f2 \nOur Substack has a weekly blog with lots of info about secular addiction recovery in NWA: https://substack.com/@recoverydemystified \nFollow us on Instagram for info & updates! https://instagram.com/recoverydemystified
URL:https://www.recoverydemystified.com/event/secular-addiction-recovery-nwa/2030-09-23/
LOCATION:The Library Vintage\, 48 E Township\, Fayetteville\, AR\, 72703\, United States
END:VEVENT
BEGIN:VEVENT
DTSTART;TZID=America/Chicago:20300930T180000
DTEND;TZID=America/Chicago:20300930T190000
DTSTAMP:20260422T042950
CREATED:20251005T062303Z
LAST-MODIFIED:20260322T185654Z
UID:10000262-1917021600-1917025200@www.recoverydemystified.com
SUMMARY:Secular Addiction Recovery NWA
DESCRIPTION:Join our secular addiction recovery support group in NWA! Our non-religious meeting meets every Monday at 6 PM at the Library Vintage on Township in Fayetteville. Harm reduction approaches are welcomed. We are queer/LGBTQIA+ inclusive. Request disability accommodations info@recoverydemystified.com \nOur meetings are non-religious\, peer-led\, and for anyone questioning their use of substances. \nDonate to our nonprofit to help keep our services free: https://www.recoverydemystified.com/donations/ \nCheck out our merch store for some cool toad swag: https://www.bonfire.com/store/recovery-demystified/ \nCheck out our podcast for a new spin on secular addiction recovery: https://open.spotify.com/show/4tZpbUtGB69x7TWIcPTmGa?si=f67c20288d9c45f2 \nOur Substack has a weekly blog with lots of info about secular addiction recovery in NWA: https://substack.com/@recoverydemystified \nFollow us on Instagram for info & updates! https://instagram.com/recoverydemystified
URL:https://www.recoverydemystified.com/event/secular-addiction-recovery-nwa/2030-09-30/
LOCATION:The Library Vintage\, 48 E Township\, Fayetteville\, AR\, 72703\, United States
END:VEVENT
BEGIN:VEVENT
DTSTART;TZID=America/Chicago:20301007T180000
DTEND;TZID=America/Chicago:20301007T190000
DTSTAMP:20260422T042950
CREATED:20251005T062303Z
LAST-MODIFIED:20260322T185654Z
UID:10000325-1917626400-1917630000@www.recoverydemystified.com
SUMMARY:Secular Addiction Recovery NWA
DESCRIPTION:Join our secular addiction recovery support group in NWA! Our non-religious meeting meets every Monday at 6 PM at the Library Vintage on Township in Fayetteville. Harm reduction approaches are welcomed. We are queer/LGBTQIA+ inclusive. Request disability accommodations info@recoverydemystified.com \nOur meetings are non-religious\, peer-led\, and for anyone questioning their use of substances. \nDonate to our nonprofit to help keep our services free: https://www.recoverydemystified.com/donations/ \nCheck out our merch store for some cool toad swag: https://www.bonfire.com/store/recovery-demystified/ \nCheck out our podcast for a new spin on secular addiction recovery: https://open.spotify.com/show/4tZpbUtGB69x7TWIcPTmGa?si=f67c20288d9c45f2 \nOur Substack has a weekly blog with lots of info about secular addiction recovery in NWA: https://substack.com/@recoverydemystified \nFollow us on Instagram for info & updates! https://instagram.com/recoverydemystified
URL:https://www.recoverydemystified.com/event/secular-addiction-recovery-nwa/2030-10-07/
LOCATION:The Library Vintage\, 48 E Township\, Fayetteville\, AR\, 72703\, United States
END:VEVENT
BEGIN:VEVENT
DTSTART;TZID=America/Chicago:20301014T180000
DTEND;TZID=America/Chicago:20301014T190000
DTSTAMP:20260422T042950
CREATED:20251005T062303Z
LAST-MODIFIED:20260322T185654Z
UID:10000326-1918231200-1918234800@www.recoverydemystified.com
SUMMARY:Secular Addiction Recovery NWA
DESCRIPTION:Join our secular addiction recovery support group in NWA! Our non-religious meeting meets every Monday at 6 PM at the Library Vintage on Township in Fayetteville. Harm reduction approaches are welcomed. We are queer/LGBTQIA+ inclusive. Request disability accommodations info@recoverydemystified.com \nOur meetings are non-religious\, peer-led\, and for anyone questioning their use of substances. \nDonate to our nonprofit to help keep our services free: https://www.recoverydemystified.com/donations/ \nCheck out our merch store for some cool toad swag: https://www.bonfire.com/store/recovery-demystified/ \nCheck out our podcast for a new spin on secular addiction recovery: https://open.spotify.com/show/4tZpbUtGB69x7TWIcPTmGa?si=f67c20288d9c45f2 \nOur Substack has a weekly blog with lots of info about secular addiction recovery in NWA: https://substack.com/@recoverydemystified \nFollow us on Instagram for info & updates! https://instagram.com/recoverydemystified
URL:https://www.recoverydemystified.com/event/secular-addiction-recovery-nwa/2030-10-14/
LOCATION:The Library Vintage\, 48 E Township\, Fayetteville\, AR\, 72703\, United States
END:VEVENT
END:VCALENDAR