BEGIN:VCALENDAR
VERSION:2.0
PRODID:-//Recovery Demystified - ECPv6.15.17.1//NONSGML v1.0//EN
CALSCALE:GREGORIAN
METHOD:PUBLISH
X-WR-CALNAME:Recovery Demystified
X-ORIGINAL-URL:https://www.recoverydemystified.com
X-WR-CALDESC:Events for Recovery Demystified
REFRESH-INTERVAL;VALUE=DURATION:PT1H
X-Robots-Tag:noindex
X-PUBLISHED-TTL:PT1H
BEGIN:VTIMEZONE
TZID:America/Chicago
BEGIN:DAYLIGHT
TZOFFSETFROM:-0600
TZOFFSETTO:-0500
TZNAME:CDT
DTSTART:20250309T080000
END:DAYLIGHT
BEGIN:STANDARD
TZOFFSETFROM:-0500
TZOFFSETTO:-0600
TZNAME:CST
DTSTART:20251102T070000
END:STANDARD
BEGIN:DAYLIGHT
TZOFFSETFROM:-0600
TZOFFSETTO:-0500
TZNAME:CDT
DTSTART:20260308T080000
END:DAYLIGHT
BEGIN:STANDARD
TZOFFSETFROM:-0500
TZOFFSETTO:-0600
TZNAME:CST
DTSTART:20261101T070000
END:STANDARD
BEGIN:DAYLIGHT
TZOFFSETFROM:-0600
TZOFFSETTO:-0500
TZNAME:CDT
DTSTART:20270314T080000
END:DAYLIGHT
BEGIN:STANDARD
TZOFFSETFROM:-0500
TZOFFSETTO:-0600
TZNAME:CST
DTSTART:20271107T070000
END:STANDARD
END:VTIMEZONE
BEGIN:VEVENT
DTSTART;TZID=America/Chicago:20260302T180000
DTEND;TZID=America/Chicago:20260302T190000
DTSTAMP:20260420T014958
CREATED:20251005T062303Z
LAST-MODIFIED:20260322T185654Z
UID:10000023-1772474400-1772478000@www.recoverydemystified.com
SUMMARY:Secular Addiction Recovery NWA
DESCRIPTION:Join our secular addiction recovery support group in NWA! Our non-religious meeting meets every Monday at 6 PM at the Library Vintage on Township in Fayetteville. Harm reduction approaches are welcomed. We are queer/LGBTQIA+ inclusive. Request disability accommodations info@recoverydemystified.com \nOur meetings are non-religious\, peer-led\, and for anyone questioning their use of substances. \nDonate to our nonprofit to help keep our services free: https://www.recoverydemystified.com/donations/ \nCheck out our merch store for some cool toad swag: https://www.bonfire.com/store/recovery-demystified/ \nCheck out our podcast for a new spin on secular addiction recovery: https://open.spotify.com/show/4tZpbUtGB69x7TWIcPTmGa?si=f67c20288d9c45f2 \nOur Substack has a weekly blog with lots of info about secular addiction recovery in NWA: https://substack.com/@recoverydemystified \nFollow us on Instagram for info & updates! https://instagram.com/recoverydemystified
URL:https://www.recoverydemystified.com/event/secular-addiction-recovery-nwa/2026-03-02/
LOCATION:The Library Vintage\, 48 E Township\, Fayetteville\, AR\, 72703\, United States
END:VEVENT
BEGIN:VEVENT
DTSTART;TZID=America/Chicago:20260309T180000
DTEND;TZID=America/Chicago:20260309T190000
DTSTAMP:20260420T014959
CREATED:20251005T062303Z
LAST-MODIFIED:20260322T185654Z
UID:10000024-1773079200-1773082800@www.recoverydemystified.com
SUMMARY:Secular Addiction Recovery NWA
DESCRIPTION:Join our secular addiction recovery support group in NWA! Our non-religious meeting meets every Monday at 6 PM at the Library Vintage on Township in Fayetteville. Harm reduction approaches are welcomed. We are queer/LGBTQIA+ inclusive. Request disability accommodations info@recoverydemystified.com \nOur meetings are non-religious\, peer-led\, and for anyone questioning their use of substances. \nDonate to our nonprofit to help keep our services free: https://www.recoverydemystified.com/donations/ \nCheck out our merch store for some cool toad swag: https://www.bonfire.com/store/recovery-demystified/ \nCheck out our podcast for a new spin on secular addiction recovery: https://open.spotify.com/show/4tZpbUtGB69x7TWIcPTmGa?si=f67c20288d9c45f2 \nOur Substack has a weekly blog with lots of info about secular addiction recovery in NWA: https://substack.com/@recoverydemystified \nFollow us on Instagram for info & updates! https://instagram.com/recoverydemystified
URL:https://www.recoverydemystified.com/event/secular-addiction-recovery-nwa/2026-03-09/
LOCATION:The Library Vintage\, 48 E Township\, Fayetteville\, AR\, 72703\, United States
END:VEVENT
BEGIN:VEVENT
DTSTART;TZID=America/Chicago:20260316T180000
DTEND;TZID=America/Chicago:20260316T190000
DTSTAMP:20260420T014959
CREATED:20251005T062303Z
LAST-MODIFIED:20260322T185654Z
UID:10000025-1773684000-1773687600@www.recoverydemystified.com
SUMMARY:Secular Addiction Recovery NWA
DESCRIPTION:Join our secular addiction recovery support group in NWA! Our non-religious meeting meets every Monday at 6 PM at the Library Vintage on Township in Fayetteville. Harm reduction approaches are welcomed. We are queer/LGBTQIA+ inclusive. Request disability accommodations info@recoverydemystified.com \nOur meetings are non-religious\, peer-led\, and for anyone questioning their use of substances. \nDonate to our nonprofit to help keep our services free: https://www.recoverydemystified.com/donations/ \nCheck out our merch store for some cool toad swag: https://www.bonfire.com/store/recovery-demystified/ \nCheck out our podcast for a new spin on secular addiction recovery: https://open.spotify.com/show/4tZpbUtGB69x7TWIcPTmGa?si=f67c20288d9c45f2 \nOur Substack has a weekly blog with lots of info about secular addiction recovery in NWA: https://substack.com/@recoverydemystified \nFollow us on Instagram for info & updates! https://instagram.com/recoverydemystified
URL:https://www.recoverydemystified.com/event/secular-addiction-recovery-nwa/2026-03-16/
LOCATION:The Library Vintage\, 48 E Township\, Fayetteville\, AR\, 72703\, United States
END:VEVENT
BEGIN:VEVENT
DTSTART;TZID=America/Chicago:20260322T170000
DTEND;TZID=America/Chicago:20260322T190000
DTSTAMP:20260420T014959
CREATED:20260311T145123Z
LAST-MODIFIED:20260311T145123Z
UID:10000387-1774198800-1774206000@www.recoverydemystified.com
SUMMARY:Sober People at the Bar @Sidecar Cocktail Lounge!
DESCRIPTION:Join us at Sidecar Cocktail Lounge in Fayetteville\, Arkansas for the second iteration of Sober People at the Bar! If you’ve been looking for secular sober community in Northwest Arkansas\, including queer and neurodivergent community\, you’re in the right place! Sidecar Cocktail Lounge has a deliciously well curated mocktail menu\, and your first drink is on us! (Donations to Recovery Demystified are very much appreciated!) We hear all the time from people that we need more sober community\, sober hangs\, and especially sober events that are welcoming to people who are secular\, queer\, or neurodivergent. When we enter into addiction recovery\, being sober can be lonely\, and it can be hard to build community when our lives are so busy. That’s why Recovery Demystified created our sober social events series in Fayetteville\, Northwest Arkansas. We believe in building our secular sober community through connecting to each other in real life! Are you looking for secular sober recovery support to help you overcome your triggers in addiction recovery? Recovery Demystified is here to help! Sidecar Cocktail Lounge also serves alcohol in addition to mocktails. We will be practicing being sober together which helps with our accountability in sobriety. Practice makes perfect! \nCheck out our Instagram: http://www.instagram.com/recoverydemystified \nCheck out our Substack: https://recoverydemystified.substack.com/ \nDonate to our non-profit:https://www.recoverydemystified.com/donations/
URL:https://www.recoverydemystified.com/event/sober-people-at-the-bar-recovery-demystified/
LOCATION:Sidecar Cocktail Lounge\, 1150 N College Ave\, Fayetteville\, AR\, 72703\, United States
END:VEVENT
BEGIN:VEVENT
DTSTART;TZID=America/Chicago:20260323T180000
DTEND;TZID=America/Chicago:20260323T190000
DTSTAMP:20260420T014959
CREATED:20251005T062303Z
LAST-MODIFIED:20260322T185654Z
UID:10000026-1774288800-1774292400@www.recoverydemystified.com
SUMMARY:Secular Addiction Recovery NWA
DESCRIPTION:Join our secular addiction recovery support group in NWA! Our non-religious meeting meets every Monday at 6 PM at the Library Vintage on Township in Fayetteville. Harm reduction approaches are welcomed. We are queer/LGBTQIA+ inclusive. Request disability accommodations info@recoverydemystified.com \nOur meetings are non-religious\, peer-led\, and for anyone questioning their use of substances. \nDonate to our nonprofit to help keep our services free: https://www.recoverydemystified.com/donations/ \nCheck out our merch store for some cool toad swag: https://www.bonfire.com/store/recovery-demystified/ \nCheck out our podcast for a new spin on secular addiction recovery: https://open.spotify.com/show/4tZpbUtGB69x7TWIcPTmGa?si=f67c20288d9c45f2 \nOur Substack has a weekly blog with lots of info about secular addiction recovery in NWA: https://substack.com/@recoverydemystified \nFollow us on Instagram for info & updates! https://instagram.com/recoverydemystified
URL:https://www.recoverydemystified.com/event/secular-addiction-recovery-nwa/2026-03-23/
LOCATION:The Library Vintage\, 48 E Township\, Fayetteville\, AR\, 72703\, United States
END:VEVENT
BEGIN:VEVENT
DTSTART;TZID=America/Chicago:20260330T180000
DTEND;TZID=America/Chicago:20260330T190000
DTSTAMP:20260420T014959
CREATED:20251005T062303Z
LAST-MODIFIED:20260322T185654Z
UID:10000027-1774893600-1774897200@www.recoverydemystified.com
SUMMARY:Secular Addiction Recovery NWA
DESCRIPTION:Join our secular addiction recovery support group in NWA! Our non-religious meeting meets every Monday at 6 PM at the Library Vintage on Township in Fayetteville. Harm reduction approaches are welcomed. We are queer/LGBTQIA+ inclusive. Request disability accommodations info@recoverydemystified.com \nOur meetings are non-religious\, peer-led\, and for anyone questioning their use of substances. \nDonate to our nonprofit to help keep our services free: https://www.recoverydemystified.com/donations/ \nCheck out our merch store for some cool toad swag: https://www.bonfire.com/store/recovery-demystified/ \nCheck out our podcast for a new spin on secular addiction recovery: https://open.spotify.com/show/4tZpbUtGB69x7TWIcPTmGa?si=f67c20288d9c45f2 \nOur Substack has a weekly blog with lots of info about secular addiction recovery in NWA: https://substack.com/@recoverydemystified \nFollow us on Instagram for info & updates! https://instagram.com/recoverydemystified
URL:https://www.recoverydemystified.com/event/secular-addiction-recovery-nwa/2026-03-30/
LOCATION:The Library Vintage\, 48 E Township\, Fayetteville\, AR\, 72703\, United States
END:VEVENT
END:VCALENDAR