BEGIN:VCALENDAR
VERSION:2.0
PRODID:-//Recovery Demystified - ECPv6.15.17.1//NONSGML v1.0//EN
CALSCALE:GREGORIAN
METHOD:PUBLISH
X-ORIGINAL-URL:https://www.recoverydemystified.com
X-WR-CALDESC:Events for Recovery Demystified
REFRESH-INTERVAL;VALUE=DURATION:PT1H
X-Robots-Tag:noindex
X-PUBLISHED-TTL:PT1H
BEGIN:VTIMEZONE
TZID:America/Chicago
BEGIN:DAYLIGHT
TZOFFSETFROM:-0600
TZOFFSETTO:-0500
TZNAME:CDT
DTSTART:20250309T080000
END:DAYLIGHT
BEGIN:STANDARD
TZOFFSETFROM:-0500
TZOFFSETTO:-0600
TZNAME:CST
DTSTART:20251102T070000
END:STANDARD
BEGIN:DAYLIGHT
TZOFFSETFROM:-0600
TZOFFSETTO:-0500
TZNAME:CDT
DTSTART:20260308T080000
END:DAYLIGHT
BEGIN:STANDARD
TZOFFSETFROM:-0500
TZOFFSETTO:-0600
TZNAME:CST
DTSTART:20261101T070000
END:STANDARD
BEGIN:DAYLIGHT
TZOFFSETFROM:-0600
TZOFFSETTO:-0500
TZNAME:CDT
DTSTART:20270314T080000
END:DAYLIGHT
BEGIN:STANDARD
TZOFFSETFROM:-0500
TZOFFSETTO:-0600
TZNAME:CST
DTSTART:20271107T070000
END:STANDARD
END:VTIMEZONE
BEGIN:VEVENT
DTSTART;TZID=America/Chicago:20260202T180000
DTEND;TZID=America/Chicago:20260202T190000
DTSTAMP:20260422T032510
CREATED:20251005T062303Z
LAST-MODIFIED:20260322T185654Z
UID:10000019-1770055200-1770058800@www.recoverydemystified.com
SUMMARY:Secular Addiction Recovery NWA
DESCRIPTION:Join our secular addiction recovery support group in NWA! Our non-religious meeting meets every Monday at 6 PM at the Library Vintage on Township in Fayetteville. Harm reduction approaches are welcomed. We are queer/LGBTQIA+ inclusive. Request disability accommodations info@recoverydemystified.com \nOur meetings are non-religious\, peer-led\, and for anyone questioning their use of substances. \nDonate to our nonprofit to help keep our services free: https://www.recoverydemystified.com/donations/ \nCheck out our merch store for some cool toad swag: https://www.bonfire.com/store/recovery-demystified/ \nCheck out our podcast for a new spin on secular addiction recovery: https://open.spotify.com/show/4tZpbUtGB69x7TWIcPTmGa?si=f67c20288d9c45f2 \nOur Substack has a weekly blog with lots of info about secular addiction recovery in NWA: https://substack.com/@recoverydemystified \nFollow us on Instagram for info & updates! https://instagram.com/recoverydemystified
URL:https://www.recoverydemystified.com/event/secular-addiction-recovery-nwa/2026-02-02/
LOCATION:The Library Vintage\, 48 E Township\, Fayetteville\, AR\, 72703\, United States
END:VEVENT
BEGIN:VEVENT
DTSTART;TZID=America/Chicago:20260209T180000
DTEND;TZID=America/Chicago:20260209T190000
DTSTAMP:20260422T032510
CREATED:20251005T062303Z
LAST-MODIFIED:20260322T185654Z
UID:10000020-1770660000-1770663600@www.recoverydemystified.com
SUMMARY:Secular Addiction Recovery NWA
DESCRIPTION:Join our secular addiction recovery support group in NWA! Our non-religious meeting meets every Monday at 6 PM at the Library Vintage on Township in Fayetteville. Harm reduction approaches are welcomed. We are queer/LGBTQIA+ inclusive. Request disability accommodations info@recoverydemystified.com \nOur meetings are non-religious\, peer-led\, and for anyone questioning their use of substances. \nDonate to our nonprofit to help keep our services free: https://www.recoverydemystified.com/donations/ \nCheck out our merch store for some cool toad swag: https://www.bonfire.com/store/recovery-demystified/ \nCheck out our podcast for a new spin on secular addiction recovery: https://open.spotify.com/show/4tZpbUtGB69x7TWIcPTmGa?si=f67c20288d9c45f2 \nOur Substack has a weekly blog with lots of info about secular addiction recovery in NWA: https://substack.com/@recoverydemystified \nFollow us on Instagram for info & updates! https://instagram.com/recoverydemystified
URL:https://www.recoverydemystified.com/event/secular-addiction-recovery-nwa/2026-02-09/
LOCATION:The Library Vintage\, 48 E Township\, Fayetteville\, AR\, 72703\, United States
END:VEVENT
BEGIN:VEVENT
DTSTART;TZID=America/Chicago:20260216T180000
DTEND;TZID=America/Chicago:20260216T190000
DTSTAMP:20260422T032510
CREATED:20251005T062303Z
LAST-MODIFIED:20260322T185654Z
UID:10000021-1771264800-1771268400@www.recoverydemystified.com
SUMMARY:Secular Addiction Recovery NWA
DESCRIPTION:Join our secular addiction recovery support group in NWA! Our non-religious meeting meets every Monday at 6 PM at the Library Vintage on Township in Fayetteville. Harm reduction approaches are welcomed. We are queer/LGBTQIA+ inclusive. Request disability accommodations info@recoverydemystified.com \nOur meetings are non-religious\, peer-led\, and for anyone questioning their use of substances. \nDonate to our nonprofit to help keep our services free: https://www.recoverydemystified.com/donations/ \nCheck out our merch store for some cool toad swag: https://www.bonfire.com/store/recovery-demystified/ \nCheck out our podcast for a new spin on secular addiction recovery: https://open.spotify.com/show/4tZpbUtGB69x7TWIcPTmGa?si=f67c20288d9c45f2 \nOur Substack has a weekly blog with lots of info about secular addiction recovery in NWA: https://substack.com/@recoverydemystified \nFollow us on Instagram for info & updates! https://instagram.com/recoverydemystified
URL:https://www.recoverydemystified.com/event/secular-addiction-recovery-nwa/2026-02-16/
LOCATION:The Library Vintage\, 48 E Township\, Fayetteville\, AR\, 72703\, United States
END:VEVENT
BEGIN:VEVENT
DTSTART;TZID=America/Chicago:20260223T180000
DTEND;TZID=America/Chicago:20260223T190000
DTSTAMP:20260422T032510
CREATED:20251005T062303Z
LAST-MODIFIED:20260322T185654Z
UID:10000022-1771869600-1771873200@www.recoverydemystified.com
SUMMARY:Secular Addiction Recovery NWA
DESCRIPTION:Join our secular addiction recovery support group in NWA! Our non-religious meeting meets every Monday at 6 PM at the Library Vintage on Township in Fayetteville. Harm reduction approaches are welcomed. We are queer/LGBTQIA+ inclusive. Request disability accommodations info@recoverydemystified.com \nOur meetings are non-religious\, peer-led\, and for anyone questioning their use of substances. \nDonate to our nonprofit to help keep our services free: https://www.recoverydemystified.com/donations/ \nCheck out our merch store for some cool toad swag: https://www.bonfire.com/store/recovery-demystified/ \nCheck out our podcast for a new spin on secular addiction recovery: https://open.spotify.com/show/4tZpbUtGB69x7TWIcPTmGa?si=f67c20288d9c45f2 \nOur Substack has a weekly blog with lots of info about secular addiction recovery in NWA: https://substack.com/@recoverydemystified \nFollow us on Instagram for info & updates! https://instagram.com/recoverydemystified
URL:https://www.recoverydemystified.com/event/secular-addiction-recovery-nwa/2026-02-23/
LOCATION:The Library Vintage\, 48 E Township\, Fayetteville\, AR\, 72703\, United States
END:VEVENT
BEGIN:VEVENT
DTSTART;TZID=America/Chicago:20260225T140000
DTEND;TZID=America/Chicago:20260225T170000
DTSTAMP:20260422T032510
CREATED:20260127T175512Z
LAST-MODIFIED:20260127T175512Z
UID:10000386-1772028000-1772038800@www.recoverydemystified.com
SUMMARY:Volunteer With Us to Cook a Meal at New Beginnings!
DESCRIPTION:Join us Wednesday February 25\, 2026 to cook a meal for our neighbors at New Beginnings! New Beginnings is a tiny house community in South Fayetteville that provides safe\, permanent housing and personalized support to chronically unhoused folks. We are stoked to return and share a meal with our friends. Please RSVP for this event by emailing info@recoverydemystified.com
URL:https://www.recoverydemystified.com/event/volunteer-with-us-to-cook-a-meal-at-new-beginnings/
LOCATION:New Beginnings\, 251 W. 19th St\, Fayetteville\, AR\, 72701\, United States
END:VEVENT
END:VCALENDAR