BEGIN:VCALENDAR
VERSION:2.0
PRODID:-//Recovery Demystified - ECPv6.15.17.1//NONSGML v1.0//EN
CALSCALE:GREGORIAN
METHOD:PUBLISH
X-WR-CALNAME:Recovery Demystified
X-ORIGINAL-URL:https://www.recoverydemystified.com
X-WR-CALDESC:Events for Recovery Demystified
REFRESH-INTERVAL;VALUE=DURATION:PT1H
X-Robots-Tag:noindex
X-PUBLISHED-TTL:PT1H
BEGIN:VTIMEZONE
TZID:America/Chicago
BEGIN:DAYLIGHT
TZOFFSETFROM:-0600
TZOFFSETTO:-0500
TZNAME:CDT
DTSTART:20250309T080000
END:DAYLIGHT
BEGIN:STANDARD
TZOFFSETFROM:-0500
TZOFFSETTO:-0600
TZNAME:CST
DTSTART:20251102T070000
END:STANDARD
BEGIN:DAYLIGHT
TZOFFSETFROM:-0600
TZOFFSETTO:-0500
TZNAME:CDT
DTSTART:20260308T080000
END:DAYLIGHT
BEGIN:STANDARD
TZOFFSETFROM:-0500
TZOFFSETTO:-0600
TZNAME:CST
DTSTART:20261101T070000
END:STANDARD
BEGIN:DAYLIGHT
TZOFFSETFROM:-0600
TZOFFSETTO:-0500
TZNAME:CDT
DTSTART:20270314T080000
END:DAYLIGHT
BEGIN:STANDARD
TZOFFSETFROM:-0500
TZOFFSETTO:-0600
TZNAME:CST
DTSTART:20271107T070000
END:STANDARD
END:VTIMEZONE
BEGIN:VEVENT
DTSTART;TZID=America/Chicago:20260225T140000
DTEND;TZID=America/Chicago:20260225T170000
DTSTAMP:20260420T081614
CREATED:20260127T175512Z
LAST-MODIFIED:20260127T175512Z
UID:10000386-1772028000-1772038800@www.recoverydemystified.com
SUMMARY:Volunteer With Us to Cook a Meal at New Beginnings!
DESCRIPTION:Join us Wednesday February 25\, 2026 to cook a meal for our neighbors at New Beginnings! New Beginnings is a tiny house community in South Fayetteville that provides safe\, permanent housing and personalized support to chronically unhoused folks. We are stoked to return and share a meal with our friends. Please RSVP for this event by emailing info@recoverydemystified.com
URL:https://www.recoverydemystified.com/event/volunteer-with-us-to-cook-a-meal-at-new-beginnings/
LOCATION:New Beginnings\, 251 W. 19th St\, Fayetteville\, AR\, 72701\, United States
END:VEVENT
END:VCALENDAR